BEGIN:VCALENDAR
VERSION:2.0
PRODID:-//Qualgod - ECPv6.2.3.2//NONSGML v1.0//EN
CALSCALE:GREGORIAN
METHOD:PUBLISH
X-WR-CALNAME:Qualgod
X-ORIGINAL-URL:https://qualgod.com
X-WR-CALDESC:Events for Qualgod
REFRESH-INTERVAL;VALUE=DURATION:PT1H
X-Robots-Tag:noindex
X-PUBLISHED-TTL:PT1H
BEGIN:VTIMEZONE
TZID:UTC
BEGIN:STANDARD
TZOFFSETFROM:+0000
TZOFFSETTO:+0000
TZNAME:UTC
DTSTART:20230101T000000
END:STANDARD
END:VTIMEZONE
BEGIN:VEVENT
DTSTART;TZID=UTC:20250412T080000
DTEND;TZID=UTC:20250412T170000
DTSTAMP:20260420T223232
CREATED:20250412T172937Z
LAST-MODIFIED:20250412T172937Z
UID:4889-1744444800-1744477200@qualgod.com
SUMMARY:Training Page Event Notification
DESCRIPTION:
URL:https://qualgod.com/event/training-page-event-notification/
END:VEVENT
BEGIN:VEVENT
DTSTART;TZID=UTC:20231015T080000
DTEND;TZID=UTC:20231015T170000
DTSTAMP:20260420T223232
CREATED:20231014T174414Z
LAST-MODIFIED:20231014T181439Z
UID:1593-1697356800-1697389200@qualgod.com
SUMMARY:Project Management training fundamental
DESCRIPTION:
URL:https://qualgod.com/event/project-management-training-fundamental/
END:VEVENT
END:VCALENDAR